BEGIN:VCALENDAR
VERSION:2.0
PRODID:-//www.bym-rsf.org//NONSGML kigkonsult.se iCalcreator 2.30.10//
CALSCALE:GREGORIAN
METHOD:PUBLISH
UID:3e0af5b5-3484-467e-91f6-9762412ab4f4
X-WR-CALDESC:
X-WR-RELCALID:8a2bfcfac81137bad1ebe2c5ce2661a3
X-WR-TIMEZONE:America/New_York
BEGIN:VTIMEZONE
TZID:America/New_York
BEGIN:STANDARD
TZNAME:EST
DTSTART:20251102T020000
TZOFFSETFROM:-0400
TZOFFSETTO:-0500
RDATE:20261101T020000
END:STANDARD
BEGIN:DAYLIGHT
TZNAME:EDT
DTSTART:20260308T020000
TZOFFSETFROM:-0500
TZOFFSETTO:-0400
RDATE:20270314T020000
END:DAYLIGHT
END:VTIMEZONE
BEGIN:VEVENT
UID:dea07154-17e5-4b12-97ff-b1d6f833aa54
DTSTAMP:20260420T230907Z
DESCRIPTION:
DTSTART;TZID=America/New_York:20260501T190000
DTEND;TZID=America/New_York:20260503T120000
LOCATION:Opequon Quaker Camp\, 605 Floc Way\, Harpers Ferry\, WV 25425 US
SUMMARY:JYF Grad Con
END:VEVENT
END:VCALENDAR
