BEGIN:VCALENDAR
VERSION:2.0
PRODID:-//www.bym-rsf.org//NONSGML kigkonsult.se iCalcreator 2.30.10//
CALSCALE:GREGORIAN
METHOD:PUBLISH
UID:a35b470a-69a4-4b31-bfa3-f4312a606d63
X-WR-CALDESC:The final Young Friends conference of the year! All are invite
 d to a weekend of fun and fellowship which will end with a celebration of 
 our graduates. \n\nFollowing the end of con\, Stony Run is hosting a free 
 Conscientious Objector Training that YFs are welcome to register for and j
 oin! Follow the link below to register. \nAn important note: registration 
 for this training will close ONE WEEK before con.
X-WR-RELCALID:55eac512c3c70a7e2f5c7cf5e5b8e171
X-WR-TIMEZONE:America/New_York
BEGIN:VTIMEZONE
TZID:America/New_York
BEGIN:STANDARD
TZNAME:EST
DTSTART:20251102T020000
TZOFFSETFROM:-0400
TZOFFSETTO:-0500
RDATE:20261101T020000
RDATE:20271107T020000
END:STANDARD
BEGIN:DAYLIGHT
TZNAME:EDT
DTSTART:20260308T020000
TZOFFSETFROM:-0500
TZOFFSETTO:-0400
RDATE:20270314T020000
END:DAYLIGHT
END:VTIMEZONE
BEGIN:VEVENT
UID:cb548f05-a42a-4249-9da1-2c1c4a8e42e1
DTSTAMP:20260421T004732Z
DESCRIPTION:The final Young Friends conference of the year! All are invited
  to a weekend of fun and fellowship which will end with a celebration of o
 ur graduates. \n\nFollowing the end of con\, Stony Run is hosting a free C
 onscientious Objector Training that YFs are welcome to register for and jo
 in! Follow the link below to register. \nAn important note: registration f
 or this training will close ONE WEEK before con.
DTSTART;TZID=America/New_York:20260515T190000
DTEND;TZID=America/New_York:20260517T120000
LOCATION:Stony Run Friends Meeting
SUMMARY:YF Grad Con
END:VEVENT
END:VCALENDAR
