BEGIN:VCALENDAR
VERSION:2.0
PRODID:-//www.bym-rsf.org//NONSGML kigkonsult.se iCalcreator 2.30.10//
CALSCALE:GREGORIAN
METHOD:PUBLISH
UID:d9b3a052-172f-4e11-b412-43ae898e3a1b
X-WR-CALDESC:This day will be focused on closing HipCamp and getting Catoct
 in ready for the summer!
X-WR-RELCALID:1f19ca161b43fa832ef3b1c9e6771811
X-WR-TIMEZONE:America/New_York
BEGIN:VTIMEZONE
TZID:America/New_York
BEGIN:STANDARD
TZNAME:EST
DTSTART:20221106T020000
TZOFFSETFROM:-0400
TZOFFSETTO:-0500
RDATE:20231105T020000
RDATE:20241103T020000
END:STANDARD
BEGIN:DAYLIGHT
TZNAME:EDT
DTSTART:20230312T020000
TZOFFSETFROM:-0500
TZOFFSETTO:-0400
RDATE:20240310T020000
END:DAYLIGHT
END:VTIMEZONE
BEGIN:VEVENT
UID:2a749a89-a4a1-4e59-a3bd-ae76a78e0425
DTSTAMP:20260423T110925Z
DESCRIPTION:This day will be focused on closing HipCamp and getting Catocti
 n ready for the summer!
DTSTART;TZID=America/New_York:20230610T093000
DTEND;TZID=America/New_York:20230610T160000
LOCATION:Catoctin Quaker Camp (12611 Tower Rd\, Thurmont\, MD 21788)
SUMMARY:Catoctin Work Day
END:VEVENT
END:VCALENDAR
