BEGIN:VCALENDAR
VERSION:2.0
PRODID:-//www.bym-rsf.org//NONSGML kigkonsult.se iCalcreator 2.30.10//
CALSCALE:GREGORIAN
METHOD:PUBLISH
UID:46369f60-bcbe-485d-a7c9-19c4c57d2bfa
X-WR-CALDESC:Please have any content you would like included in this editio
 n of the Interchange in to the office before this date.
X-WR-RELCALID:0269739774418bd45442fa1750cd84f1
X-WR-TIMEZONE:America/New_York
BEGIN:VTIMEZONE
TZID:America/New_York
BEGIN:STANDARD
TZNAME:EST
DTSTART:20221106T020000
TZOFFSETFROM:-0400
TZOFFSETTO:-0500
RDATE:20231105T020000
END:STANDARD
BEGIN:DAYLIGHT
TZNAME:EDT
DTSTART:20220313T020000
TZOFFSETFROM:-0500
TZOFFSETTO:-0400
RDATE:20230312T020000
RDATE:20240310T020000
END:DAYLIGHT
END:VTIMEZONE
BEGIN:VEVENT
UID:9982f79f-9ed2-44f4-bb05-91248cd4741f
DTSTAMP:20260419T175618Z
DESCRIPTION:Please have any content you would like included in this edition
  of the Interchange in to the office before this date.
DTSTART;TZID=America/New_York:20221205T000000
DTEND;TZID=America/New_York:20221205T235900
LOCATION:
SUMMARY:Interchange Deadline: Winter 2022
END:VEVENT
END:VCALENDAR
