BEGIN:VCALENDAR
VERSION:2.0
PRODID:-//www.bym-rsf.org//NONSGML kigkonsult.se iCalcreator 2.30.10//
CALSCALE:GREGORIAN
METHOD:PUBLISH
UID:429c8526-6337-4d97-b1c8-e5c37f4f5e39
X-WR-CALDESC:Generally\, the committee meets on the 4th Monday of each mont
 h.
X-WR-RELCALID:c9d3729b8848453086b3d4de5395282e
X-WR-TIMEZONE:America/New_York
BEGIN:VTIMEZONE
TZID:America/New_York
BEGIN:STANDARD
TZNAME:EST
DTSTART:20251102T020000
TZOFFSETFROM:-0400
TZOFFSETTO:-0500
RDATE:20261101T020000
END:STANDARD
BEGIN:DAYLIGHT
TZNAME:EDT
DTSTART:20260308T020000
TZOFFSETFROM:-0500
TZOFFSETTO:-0400
RDATE:20270314T020000
END:DAYLIGHT
END:VTIMEZONE
BEGIN:VEVENT
UID:f58ffbcc-a4ed-41a1-8114-f70d4782c92d
DTSTAMP:20260422T150611Z
DESCRIPTION:Generally\, the committee meets on the 4th Monday of each month
 .
DTSTART;TZID=America/New_York:20260427T150000
DTEND;TZID=America/New_York:20260427T173000
LOCATION:
SUMMARY:Development Committee Meeting
END:VEVENT
END:VCALENDAR
