BEGIN:VCALENDAR
VERSION:2.0
PRODID:-//www.bym-rsf.org//NONSGML kigkonsult.se iCalcreator 2.30.10//
CALSCALE:GREGORIAN
METHOD:PUBLISH
UID:4dbde18d-bcf0-4450-b14f-b021c3650378
X-WR-CALDESC:
X-WR-RELCALID:a31b437de1e94989f38af135ae6b0e04
X-WR-TIMEZONE:America/New_York
BEGIN:VTIMEZONE
TZID:America/New_York
BEGIN:STANDARD
TZNAME:EST
DTSTART:20241103T020000
TZOFFSETFROM:-0400
TZOFFSETTO:-0500
RDATE:20251102T020000
END:STANDARD
BEGIN:DAYLIGHT
TZNAME:EDT
DTSTART:20240310T020000
TZOFFSETFROM:-0500
TZOFFSETTO:-0400
RDATE:20250309T020000
RDATE:20260308T020000
END:DAYLIGHT
END:VTIMEZONE
BEGIN:VEVENT
UID:174147c9-a14c-4c37-a094-ab53c75372e8
DTSTAMP:20260422T115130Z
DESCRIPTION:
DTSTART;TZID=America/New_York:20250228T060000
DTEND;TZID=America/New_York:20250228T060001
LOCATION:17100 Quaker Lane\, Ashton-Sandy Spring\, MD 20860 US
SUMMARY:Budget Requests Due
END:VEVENT
END:VCALENDAR
