BEGIN:VCALENDAR
VERSION:2.0
PRODID:-//www.bym-rsf.org//NONSGML kigkonsult.se iCalcreator 2.30.10//
CALSCALE:GREGORIAN
METHOD:PUBLISH
UID:25060219-5853-4e34-8cf7-c68c1de57513
X-WR-CALDESC:Join us for Young Friends(YF) Summer Con! The dates are based 
 on BYM's Annual Session\, which Young Friends are invited to join us for!
X-WR-RELCALID:9bae7dc62329a404d069ea7d85175948
X-WR-TIMEZONE:America/New_York
BEGIN:VTIMEZONE
TZID:America/New_York
BEGIN:STANDARD
TZNAME:EST
DTSTART:20231105T020000
TZOFFSETFROM:-0400
TZOFFSETTO:-0500
RDATE:20241103T020000
RDATE:20251102T020000
END:STANDARD
BEGIN:DAYLIGHT
TZNAME:EDT
DTSTART:20240310T020000
TZOFFSETFROM:-0500
TZOFFSETTO:-0400
RDATE:20250309T020000
END:DAYLIGHT
END:VTIMEZONE
BEGIN:VEVENT
UID:6031b917-0d0c-4487-ae1e-c28b02d70d85
DTSTAMP:20260421T201452Z
DESCRIPTION:Join us for Young Friends(YF) Summer Con! The dates are based o
 n BYM's Annual Session\, which Young Friends are invited to join us for!
DTSTART;TZID=America/New_York:20240728T190000
DTEND;TZID=America/New_York:20240730T120000
LOCATION:TBA
SUMMARY:YF Summer Con
END:VEVENT
END:VCALENDAR
