BEGIN:VCALENDAR
VERSION:2.0
PRODID:-//www.bym-rsf.org//NONSGML kigkonsult.se iCalcreator 2.30.10//
CALSCALE:GREGORIAN
METHOD:PUBLISH
UID:a918a8c6-0273-4bd6-9c03-a82ec2f5ab34
X-WR-CALDESC:
X-WR-RELCALID:15fd73f130545b06e3f4bbf7d138213f
X-WR-TIMEZONE:America/New_York
BEGIN:VTIMEZONE
TZID:America/New_York
BEGIN:STANDARD
TZNAME:EST
DTSTART:20231105T020000
TZOFFSETFROM:-0400
TZOFFSETTO:-0500
RDATE:20241103T020000
END:STANDARD
BEGIN:DAYLIGHT
TZNAME:EDT
DTSTART:20240310T020000
TZOFFSETFROM:-0500
TZOFFSETTO:-0400
RDATE:20250309T020000
END:DAYLIGHT
END:VTIMEZONE
BEGIN:VEVENT
UID:f600134f-4268-473a-b4fb-fbf9e2d02f92
DTSTAMP:20260423T225527Z
DESCRIPTION:
DTSTART;TZID=America/New_York:20240406T060000
DTEND;TZID=America/New_York:20240406T060001
LOCATION:Sidwell Friends School \, 3825 Wisconsin Ave\, \, Washington\, DC 
 20016 US
SUMMARY:BYM Peace & Social Concerns Networking Day
END:VEVENT
END:VCALENDAR
