BEGIN:VCALENDAR
VERSION:2.0
PRODID:-//www.bym-rsf.org//NONSGML kigkonsult.se iCalcreator 2.30.10//
CALSCALE:GREGORIAN
METHOD:PUBLISH
UID:8e9a4217-0c01-49b1-9568-93f7736692ce
X-WR-CALDESC:The Baltimore Yearly Meeting office will be closed for Christm
 as Day.
X-WR-RELCALID:9f4b296cf19f9ad1edb285732396f0fd
X-WR-TIMEZONE:America/New_York
BEGIN:VTIMEZONE
TZID:America/New_York
BEGIN:STANDARD
TZNAME:EST
DTSTART:20311102T020000
TZOFFSETFROM:-0400
TZOFFSETTO:-0500
RDATE:20321107T020000
END:STANDARD
BEGIN:DAYLIGHT
TZNAME:EDT
DTSTART:20310309T020000
TZOFFSETFROM:-0500
TZOFFSETTO:-0400
RDATE:20320314T020000
RDATE:20330313T020000
END:DAYLIGHT
END:VTIMEZONE
BEGIN:VEVENT
UID:f1e497e9-1756-4f58-b712-3d9db5e577d0
DTSTAMP:20260423T144954Z
DESCRIPTION:The Baltimore Yearly Meeting office will be closed for Christma
 s Day.
DTSTART;TZID=America/New_York:20311225T090000
DTEND;TZID=America/New_York:20311225T170000
LOCATION:BYM Office
SUMMARY:BYM Office Closed
END:VEVENT
END:VCALENDAR
