BEGIN:VCALENDAR
VERSION:2.0
PRODID:-//www.bym-rsf.org//NONSGML kigkonsult.se iCalcreator 2.30.10//
CALSCALE:GREGORIAN
METHOD:PUBLISH
UID:f22488f8-87b2-43a9-9850-0c72ec22437d
X-WR-CALDESC:The Baltimore Yearly Meeting office will be closed for Christm
 as Eve.
X-WR-RELCALID:0c2fc7d39ee70f08fc5ec7a9aadea75d
X-WR-TIMEZONE:America/New_York
BEGIN:VTIMEZONE
TZID:America/New_York
BEGIN:STANDARD
TZNAME:EST
DTSTART:20311102T020000
TZOFFSETFROM:-0400
TZOFFSETTO:-0500
RDATE:20321107T020000
END:STANDARD
BEGIN:DAYLIGHT
TZNAME:EDT
DTSTART:20310309T020000
TZOFFSETFROM:-0500
TZOFFSETTO:-0400
RDATE:20320314T020000
RDATE:20330313T020000
END:DAYLIGHT
END:VTIMEZONE
BEGIN:VEVENT
UID:ed74a02b-8add-4c44-ace8-6e3551d74e0a
DTSTAMP:20260423T144312Z
DESCRIPTION:The Baltimore Yearly Meeting office will be closed for Christma
 s Eve.
DTSTART;TZID=America/New_York:20311224T090000
DTEND;TZID=America/New_York:20311224T170000
LOCATION:BYM Office
SUMMARY:BYM Office Closed
END:VEVENT
END:VCALENDAR
