BEGIN:VCALENDAR
VERSION:2.0
PRODID:-//www.bym-rsf.org//NONSGML kigkonsult.se iCalcreator 2.30.10//
CALSCALE:GREGORIAN
METHOD:PUBLISH
UID:d8276404-d814-484c-a3bd-c5c3838eebc9
X-WR-CALDESC:The Baltimore Yearly Meeting office will be closed for Christm
 as Day.
X-WR-RELCALID:59251398836121c3d20b5e4e0722e770
X-WR-TIMEZONE:America/New_York
BEGIN:VTIMEZONE
TZID:America/New_York
BEGIN:STANDARD
TZNAME:EST
DTSTART:20301103T020000
TZOFFSETFROM:-0400
TZOFFSETTO:-0500
RDATE:20311102T020000
END:STANDARD
BEGIN:DAYLIGHT
TZNAME:EDT
DTSTART:20300310T020000
TZOFFSETFROM:-0500
TZOFFSETTO:-0400
RDATE:20310309T020000
RDATE:20320314T020000
END:DAYLIGHT
END:VTIMEZONE
BEGIN:VEVENT
UID:eb5fc28b-3a73-4a5c-9306-5347ab5ad1b2
DTSTAMP:20260422T223315Z
DESCRIPTION:The Baltimore Yearly Meeting office will be closed for Christma
 s Day.
DTSTART;TZID=America/New_York:20301225T090000
DTEND;TZID=America/New_York:20301225T170000
LOCATION:BYM Office
SUMMARY:BYM Office Closed
END:VEVENT
END:VCALENDAR
