BEGIN:VCALENDAR
VERSION:2.0
PRODID:-//www.bym-rsf.org//NONSGML kigkonsult.se iCalcreator 2.30.10//
CALSCALE:GREGORIAN
METHOD:PUBLISH
UID:9732bdb8-6806-4d90-b800-eb05f1eb6a36
X-WR-CALDESC:The Ministry and Pastoral Care Committee is offering an online
  Grief Support Group. The group meets at 7:00pm on the third Wednesday of 
 each month. The next meeting is April 15. E-mail the office at admin@bym-r
 sf.org for the Zoom link and additional information.
X-WR-RELCALID:5f7ac10f9fec64707232739b3fb2cacd
X-WR-TIMEZONE:America/New_York
BEGIN:VTIMEZONE
TZID:America/New_York
BEGIN:STANDARD
TZNAME:EST
DTSTART:20291104T020000
TZOFFSETFROM:-0400
TZOFFSETTO:-0500
RDATE:20301103T020000
RDATE:20311102T020000
END:STANDARD
BEGIN:DAYLIGHT
TZNAME:EDT
DTSTART:20300310T020000
TZOFFSETFROM:-0500
TZOFFSETTO:-0400
RDATE:20310309T020000
END:DAYLIGHT
END:VTIMEZONE
BEGIN:VEVENT
UID:db4dac45-bd46-441b-972e-a9a6621582a4
DTSTAMP:20260422T134733Z
DESCRIPTION:The Ministry and Pastoral Care Committee is offering an online 
 Grief Support Group. The group meets at 7:00pm on the third Wednesday of e
 ach month. The next meeting is April 15. E-mail the office at admin@bym-rs
 f.org for the Zoom link and additional information.
DTSTART;TZID=America/New_York:20300821T190000
DTEND;TZID=America/New_York:20300821T203000
LOCATION:
SUMMARY:Grief Support Group
END:VEVENT
END:VCALENDAR
