BEGIN:VCALENDAR
VERSION:2.0
PRODID:-//www.bym-rsf.org//NONSGML kigkonsult.se iCalcreator 2.30.10//
CALSCALE:GREGORIAN
METHOD:PUBLISH
UID:f4efdd30-d44a-48c8-82d7-8848069e7c32
X-WR-CALDESC:The Baltimore Yearly Meeting office will be closed for Christm
 as Eve.
X-WR-RELCALID:1bbd389564fd26ece064d828c7369203
X-WR-TIMEZONE:America/New_York
BEGIN:VTIMEZONE
TZID:America/New_York
BEGIN:STANDARD
TZNAME:EST
DTSTART:20291104T020000
TZOFFSETFROM:-0400
TZOFFSETTO:-0500
RDATE:20301103T020000
END:STANDARD
BEGIN:DAYLIGHT
TZNAME:EDT
DTSTART:20290311T020000
TZOFFSETFROM:-0500
TZOFFSETTO:-0400
RDATE:20300310T020000
RDATE:20310309T020000
END:DAYLIGHT
END:VTIMEZONE
BEGIN:VEVENT
UID:6beea874-c1c6-48ab-8981-b4c38cf91150
DTSTAMP:20260422T051010Z
DESCRIPTION:The Baltimore Yearly Meeting office will be closed for Christma
 s Eve.
DTSTART;TZID=America/New_York:20291224T090000
DTEND;TZID=America/New_York:20291224T170000
LOCATION:BYM Office
SUMMARY:BYM Office Closed
END:VEVENT
END:VCALENDAR
