BEGIN:VCALENDAR
VERSION:2.0
PRODID:-//www.bym-rsf.org//NONSGML kigkonsult.se iCalcreator 2.30.10//
CALSCALE:GREGORIAN
METHOD:PUBLISH
UID:09540d4c-e5ff-45f1-af9e-1a9b2b7c30a9
X-WR-CALDESC:The Ministry and Pastoral Care Committee is offering an online
  Grief Support Group. The group meets at 7:00pm on the third Wednesday of 
 each month. The next meeting is April 15. E-mail the office at admin@bym-r
 sf.org for the Zoom link and additional information.
X-WR-RELCALID:c0193341a76b86a8225b02d4dc519251
X-WR-TIMEZONE:America/New_York
BEGIN:VTIMEZONE
TZID:America/New_York
BEGIN:STANDARD
TZNAME:EST
DTSTART:20281105T020000
TZOFFSETFROM:-0400
TZOFFSETTO:-0500
RDATE:20291104T020000
END:STANDARD
BEGIN:DAYLIGHT
TZNAME:EDT
DTSTART:20290311T020000
TZOFFSETFROM:-0500
TZOFFSETTO:-0400
RDATE:20300310T020000
END:DAYLIGHT
END:VTIMEZONE
BEGIN:VEVENT
UID:1455c1c9-d19f-4df2-9822-d37c9c01b48e
DTSTAMP:20260421T152039Z
DESCRIPTION:The Ministry and Pastoral Care Committee is offering an online 
 Grief Support Group. The group meets at 7:00pm on the third Wednesday of e
 ach month. The next meeting is April 15. E-mail the office at admin@bym-rs
 f.org for the Zoom link and additional information.
DTSTART;TZID=America/New_York:20290321T190000
DTEND;TZID=America/New_York:20290321T203000
LOCATION:
SUMMARY:Grief Support Group
END:VEVENT
END:VCALENDAR
