BEGIN:VCALENDAR
VERSION:2.0
PRODID:-//www.bym-rsf.org//NONSGML kigkonsult.se iCalcreator 2.30.10//
CALSCALE:GREGORIAN
METHOD:PUBLISH
UID:4cd36311-457d-4be9-b4fe-604ff2781ae3
X-WR-CALDESC:The Ministry and Pastoral Care Committee is offering an online
  Grief Support Group. The group meets at 7:00pm on the third Wednesday of 
 each month. The next meeting is April 15. E-mail the office at admin@bym-r
 sf.org for the Zoom link and additional information.
X-WR-RELCALID:f26e0ae97b679ae97552c2d4afb0d48f
X-WR-TIMEZONE:America/New_York
BEGIN:VTIMEZONE
TZID:America/New_York
BEGIN:STANDARD
TZNAME:EST
DTSTART:20271107T020000
TZOFFSETFROM:-0400
TZOFFSETTO:-0500
RDATE:20281105T020000
END:STANDARD
BEGIN:DAYLIGHT
TZNAME:EDT
DTSTART:20270314T020000
TZOFFSETFROM:-0500
TZOFFSETTO:-0400
RDATE:20280312T020000
RDATE:20290311T020000
END:DAYLIGHT
END:VTIMEZONE
BEGIN:VEVENT
UID:01e7cb51-63e5-44ba-89c5-876bfa05288b
DTSTAMP:20260420T182443Z
DESCRIPTION:The Ministry and Pastoral Care Committee is offering an online 
 Grief Support Group. The group meets at 7:00pm on the third Wednesday of e
 ach month. The next meeting is April 15. E-mail the office at admin@bym-rs
 f.org for the Zoom link and additional information.
DTSTART;TZID=America/New_York:20280119T190000
DTEND;TZID=America/New_York:20280119T203000
LOCATION:
SUMMARY:Grief Support Group
END:VEVENT
END:VCALENDAR
