BEGIN:VCALENDAR
VERSION:2.0
PRODID:-//www.bym-rsf.org//NONSGML kigkonsult.se iCalcreator 2.30.10//
CALSCALE:GREGORIAN
METHOD:PUBLISH
UID:520200fc-0834-43fc-84e6-c57fb9c0f306
X-WR-CALDESC:The Baltimore Yearly Meeting office will be closed for Christm
 as Day.
X-WR-RELCALID:3394ce6417e2dbd136e89508c23a0010
X-WR-TIMEZONE:America/New_York
BEGIN:VTIMEZONE
TZID:America/New_York
BEGIN:STANDARD
TZNAME:EST
DTSTART:20271107T020000
TZOFFSETFROM:-0400
TZOFFSETTO:-0500
RDATE:20281105T020000
END:STANDARD
BEGIN:DAYLIGHT
TZNAME:EDT
DTSTART:20270314T020000
TZOFFSETFROM:-0500
TZOFFSETTO:-0400
RDATE:20280312T020000
RDATE:20290311T020000
END:DAYLIGHT
END:VTIMEZONE
BEGIN:VEVENT
UID:b03a7265-1489-4626-8b4b-c9c73cd2fe4b
DTSTAMP:20260420T164700Z
DESCRIPTION:The Baltimore Yearly Meeting office will be closed for Christma
 s Day.
DTSTART;TZID=America/New_York:20271225T090000
DTEND;TZID=America/New_York:20271225T170000
LOCATION:BYM Office
SUMMARY:BYM Office Closed
END:VEVENT
END:VCALENDAR
