BEGIN:VCALENDAR
VERSION:2.0
PRODID:-//www.bym-rsf.org//NONSGML kigkonsult.se iCalcreator 2.30.10//
CALSCALE:GREGORIAN
METHOD:PUBLISH
UID:fcecb97d-ffc9-4275-86b8-65123b6432f3
X-WR-CALDESC:The Ministry and Pastoral Care Committee is offering an online
  Grief Support Group. The group meets at 7:00pm on the third Wednesday of 
 each month. The next meeting is April 15. E-mail the office at admin@bym-r
 sf.org for the Zoom link and additional information.
X-WR-RELCALID:97be15cd481bd6a15760dd980f0c259a
X-WR-TIMEZONE:America/New_York
BEGIN:VTIMEZONE
TZID:America/New_York
BEGIN:STANDARD
TZNAME:EST
DTSTART:20271107T020000
TZOFFSETFROM:-0400
TZOFFSETTO:-0500
RDATE:20281105T020000
END:STANDARD
BEGIN:DAYLIGHT
TZNAME:EDT
DTSTART:20270314T020000
TZOFFSETFROM:-0500
TZOFFSETTO:-0400
RDATE:20280312T020000
RDATE:20290311T020000
END:DAYLIGHT
END:VTIMEZONE
BEGIN:VEVENT
UID:d324c6b5-24a4-4ec7-b1e7-c3f053d8be3d
DTSTAMP:20260420T163950Z
DESCRIPTION:The Ministry and Pastoral Care Committee is offering an online 
 Grief Support Group. The group meets at 7:00pm on the third Wednesday of e
 ach month. The next meeting is April 15. E-mail the office at admin@bym-rs
 f.org for the Zoom link and additional information.
DTSTART;TZID=America/New_York:20271215T190000
DTEND;TZID=America/New_York:20271215T203000
LOCATION:
SUMMARY:Grief Support Group
END:VEVENT
END:VCALENDAR
