BEGIN:VCALENDAR
VERSION:2.0
PRODID:-//www.bym-rsf.org//NONSGML kigkonsult.se iCalcreator 2.30.10//
CALSCALE:GREGORIAN
METHOD:PUBLISH
UID:e3526f13-d911-4187-bd8b-74a7854edf37
X-WR-CALDESC:The Baltimore Yearly Meeting office will be closed for Christm
 as Day.
X-WR-RELCALID:8fd9a6f413015d5e64311274a3eb10ec
X-WR-TIMEZONE:America/New_York
BEGIN:VTIMEZONE
TZID:America/New_York
BEGIN:STANDARD
TZNAME:EST
DTSTART:20261101T020000
TZOFFSETFROM:-0400
TZOFFSETTO:-0500
RDATE:20271107T020000
END:STANDARD
BEGIN:DAYLIGHT
TZNAME:EDT
DTSTART:20260308T020000
TZOFFSETFROM:-0500
TZOFFSETTO:-0400
RDATE:20270314T020000
RDATE:20280312T020000
END:DAYLIGHT
END:VTIMEZONE
BEGIN:VEVENT
UID:c569bd0d-f528-42c0-be5c-ba5d89e838ca
DTSTAMP:20260419T232524Z
DESCRIPTION:The Baltimore Yearly Meeting office will be closed for Christma
 s Day.
DTSTART;TZID=America/New_York:20261225T090000
DTEND;TZID=America/New_York:20261225T170000
LOCATION:BYM Office
SUMMARY:BYM Office Closed
END:VEVENT
END:VCALENDAR
