BEGIN:VCALENDAR
VERSION:2.0
PRODID:-//www.bym-rsf.org//NONSGML kigkonsult.se iCalcreator 2.30.10//
CALSCALE:GREGORIAN
METHOD:PUBLISH
UID:6b3aa7a1-95bb-44e6-984a-dadb41818ac4
X-WR-CALDESC:
X-WR-RELCALID:23ecfd5ddddec0f6f19f74a27eb000dc
X-WR-TIMEZONE:America/New_York
BEGIN:VTIMEZONE
TZID:America/New_York
BEGIN:STANDARD
TZNAME:EST
DTSTART:20251102T020000
TZOFFSETFROM:-0400
TZOFFSETTO:-0500
RDATE:20261101T020000
RDATE:20271107T020000
END:STANDARD
BEGIN:DAYLIGHT
TZNAME:EDT
DTSTART:20260308T020000
TZOFFSETFROM:-0500
TZOFFSETTO:-0400
RDATE:20270314T020000
END:DAYLIGHT
END:VTIMEZONE
BEGIN:VEVENT
UID:3033fb23-3352-47e8-8aa4-eaeeef66a3b5
DTSTAMP:20260419T175316Z
DESCRIPTION:
DTSTART;TZID=America/New_York:20260817T060000
DTEND;TZID=America/New_York:20260821T060001
LOCATION:
SUMMARY:Staff Sabbath Week
END:VEVENT
END:VCALENDAR
