BEGIN:VCALENDAR
VERSION:2.0
PRODID:-//www.bym-rsf.org//NONSGML kigkonsult.se iCalcreator 2.30.10//
CALSCALE:GREGORIAN
METHOD:PUBLISH
UID:478dc0c7-b146-4f10-a47e-677f79ea382c
X-WR-CALDESC:
X-WR-RELCALID:17a28ce44fcfc501b57ddf76d305fdfe
X-WR-TIMEZONE:America/New_York
BEGIN:VTIMEZONE
TZID:America/New_York
BEGIN:STANDARD
TZNAME:EST
DTSTART:20251102T020000
TZOFFSETFROM:-0400
TZOFFSETTO:-0500
RDATE:20261101T020000
RDATE:20271107T020000
END:STANDARD
BEGIN:DAYLIGHT
TZNAME:EDT
DTSTART:20260308T020000
TZOFFSETFROM:-0500
TZOFFSETTO:-0400
RDATE:20270314T020000
END:DAYLIGHT
END:VTIMEZONE
BEGIN:VEVENT
UID:84eb80e2-3a15-47e8-9689-94d5523ee356
DTSTAMP:20260419T160502Z
DESCRIPTION:
DTSTART;TZID=America/New_York:20260727T060000
DTEND;TZID=America/New_York:20260802T060001
LOCATION:Hood College\, 401 Rosemont Ave\, Frederick\, MD 21701 US
SUMMARY:Annual Sessions
END:VEVENT
END:VCALENDAR
