BEGIN:VCALENDAR
VERSION:2.0
PRODID:-//www.bym-rsf.org//NONSGML kigkonsult.se iCalcreator 2.30.10//
CALSCALE:GREGORIAN
METHOD:PUBLISH
UID:1d5cccd0-fb8a-48cb-9f2b-37e536e756db
X-WR-CALDESC:Before you begin your registration\, be sure to check out the 
 Spring Interchange (link below)\, for all the details about Annual Session
 !
X-WR-RELCALID:406fcc17cfa0fc106d5e09d5fb41d832
X-WR-TIMEZONE:America/New_York
BEGIN:VTIMEZONE
TZID:America/New_York
BEGIN:STANDARD
TZNAME:EST
DTSTART:20251102T020000
TZOFFSETFROM:-0400
TZOFFSETTO:-0500
RDATE:20261101T020000
RDATE:20271107T020000
END:STANDARD
BEGIN:DAYLIGHT
TZNAME:EDT
DTSTART:20260308T020000
TZOFFSETFROM:-0500
TZOFFSETTO:-0400
RDATE:20270314T020000
END:DAYLIGHT
END:VTIMEZONE
BEGIN:VEVENT
UID:e5a90dd6-ba32-4971-ba8e-5dfb4107ceb9
DTSTAMP:20260419T153842Z
DESCRIPTION:Before you begin your registration\, be sure to check out the S
 pring Interchange (link below)\, for all the details about Annual Session!
DTSTART;TZID=America/New_York:20260727T060000
DTEND;TZID=America/New_York:20260802T060001
LOCATION:Hood College\, 401 Rosemont Ave\, Frederick\, MD 21701 US
SUMMARY:Annual Sessions 2026 TEST REGISTRATION
END:VEVENT
END:VCALENDAR
