BEGIN:VCALENDAR
VERSION:2.0
PRODID:-//www.bym-rsf.org//NONSGML kigkonsult.se iCalcreator 2.30.10//
CALSCALE:GREGORIAN
METHOD:PUBLISH
UID:1d4eb883-8a96-4290-8a32-b3c4bf0afb40
X-WR-CALDESC:Generally\, the committee meets on the 4th Monday of each mont
 h.
X-WR-RELCALID:d284f790e02a625d6a4cf7acff12bf15
X-WR-TIMEZONE:America/New_York
BEGIN:VTIMEZONE
TZID:America/New_York
BEGIN:STANDARD
TZNAME:EST
DTSTART:20251102T020000
TZOFFSETFROM:-0400
TZOFFSETTO:-0500
RDATE:20261101T020000
RDATE:20271107T020000
END:STANDARD
BEGIN:DAYLIGHT
TZNAME:EDT
DTSTART:20260308T020000
TZOFFSETFROM:-0500
TZOFFSETTO:-0400
RDATE:20270314T020000
END:DAYLIGHT
END:VTIMEZONE
BEGIN:VEVENT
UID:f0dd411a-adec-4da4-a57a-4fd268a30643
DTSTAMP:20260419T140723Z
DESCRIPTION:Generally\, the committee meets on the 4th Monday of each month
 .
DTSTART;TZID=America/New_York:20260622T150000
DTEND;TZID=America/New_York:20260622T173000
LOCATION:
SUMMARY:Development Committee Meeting
END:VEVENT
END:VCALENDAR
