BEGIN:VCALENDAR
VERSION:2.0
PRODID:-//www.bym-rsf.org//NONSGML kigkonsult.se iCalcreator 2.30.10//
CALSCALE:GREGORIAN
METHOD:PUBLISH
UID:801d6f8f-96d9-44b6-b63f-d38276041162
X-WR-CALDESC:Join the Friends Committee on National Legislation (FCNL) ever
 y Wednesday when Congress is in session. Ready to step up your advocacy an
 d lobby your member of Congress? Drop-in for hands-on advocacy training to
  prepare for a lobby visit with your Members of Congress. Your voice is po
 werful and can move legislators towards peace and justice! Lobby Training 
 begins at 9:00am. In the afternoon there is Silent Reflection at 5:15. Cal
 ling all DC visitors\, passers-by\, and staffers\, need a time of quiet an
 d calm? Join FCNL for silent reflection. All\nare welcome to join this ref
 reshing time of community and fellowship.
X-WR-RELCALID:3192d61a8a8291a3e7506ccfe97a4111
X-WR-TIMEZONE:America/New_York
BEGIN:VTIMEZONE
TZID:America/New_York
BEGIN:STANDARD
TZNAME:EST
DTSTART:20181104T020000
TZOFFSETFROM:-0400
TZOFFSETTO:-0500
RDATE:20191103T020000
RDATE:20201101T020000
END:STANDARD
BEGIN:DAYLIGHT
TZNAME:EDT
DTSTART:20190310T020000
TZOFFSETFROM:-0500
TZOFFSETTO:-0400
RDATE:20200308T020000
END:DAYLIGHT
END:VTIMEZONE
BEGIN:VEVENT
UID:84bcb181-0896-4990-b7f3-9db6bf8248c5
DTSTAMP:20260423T005341Z
DESCRIPTION:Join the Friends Committee on National Legislation (FCNL) every
  Wednesday when Congress is in session. Ready to step up your advocacy and
  lobby your member of Congress? Drop-in for hands-on advocacy training to 
 prepare for a lobby visit with your Members of Congress. Your voice is pow
 erful and can move legislators towards peace and justice! Lobby Training b
 egins at 9:00am. In the afternoon there is Silent Reflection at 5:15. Call
 ing all DC visitors\, passers-by\, and staffers\, need a time of quiet and
  calm? Join FCNL for silent reflection. All\nare welcome to join this refr
 eshing time of community and fellowship.
DTSTART;TZID=America/New_York:20190724T090000
DTEND;TZID=America/New_York:20190724T180000
LOCATION:Friends Committee on National Legislation Quaker Welcome Center (W
 ashington\, DC)
SUMMARY:Witness Wednesday
END:VEVENT
END:VCALENDAR
