BEGIN:VCALENDAR
VERSION:2.0
PRODID:-//www.bym-rsf.org//NONSGML kigkonsult.se iCalcreator 2.30.10//
CALSCALE:GREGORIAN
METHOD:PUBLISH
UID:447ca6b6-49cd-450d-a579-e9cdd27d6a4f
X-WR-CALDESC:The Mystical and Spiritual Dimensions of Trauma and Healing\, 
 with Plenary Speaker\, Donald Kalsched\, Ph.D.\, Jungian Analyst. Please v
 isit our web site: fcrp.quaker.org/ for more information and/or to registe
 r. Space is limited.
X-WR-RELCALID:c89eb3ea428985cb37d6341fbd1c1ce3
X-WR-TIMEZONE:America/New_York
BEGIN:VTIMEZONE
TZID:America/New_York
BEGIN:STANDARD
TZNAME:EST
DTSTART:20181104T020000
TZOFFSETFROM:-0400
TZOFFSETTO:-0500
RDATE:20191103T020000
RDATE:20201101T020000
END:STANDARD
BEGIN:DAYLIGHT
TZNAME:EDT
DTSTART:20190310T020000
TZOFFSETFROM:-0500
TZOFFSETTO:-0400
RDATE:20200308T020000
END:DAYLIGHT
END:VTIMEZONE
BEGIN:VEVENT
UID:38091db3-a679-43c8-95cb-78c483d769c7
DTSTAMP:20260422T231553Z
DESCRIPTION:The Mystical and Spiritual Dimensions of Trauma and Healing\, w
 ith Plenary Speaker\, Donald Kalsched\, Ph.D.\, Jungian Analyst. Please vi
 sit our web site: fcrp.quaker.org/ for more information and/or to register
 . Space is limited.
DTSTART;TZID=America/New_York:20190524T000000
DTEND;TZID=America/New_York:20190527T235900
LOCATION:Pendle Hill (Wallingford\, PA)
SUMMARY:Friends Conference on Religion and Psychology
END:VEVENT
END:VCALENDAR
