BEGIN:VCALENDAR
VERSION:2.0
PRODID:-//www.bym-rsf.org//NONSGML kigkonsult.se iCalcreator 2.30.10//
CALSCALE:GREGORIAN
METHOD:PUBLISH
UID:ea568219-9348-4d5e-b2b7-8207dff00156
X-WR-CALDESC:Join us at 7pm for a one-man performance and discussion of Thi
 s Evil Thing\, the shocking and inspiring story of the 'Richmond 16'\, a g
 roup of men who said no to war. Michael Mears - ‘The Fringe-First Award wi
 nning master of the one-man show’ – portrays a gallery of characters from 
 conscientious objectors to army generals\, from Prime Ministers to world-f
 amous mathematicians. This highly original piece of storytelling uses verb
 atim testimonies\, a multi-layered sound landscape and vivid visual imager
 y. RSVP on Facebook if you would like to attend. (https://www.facebook.com
 /events/2000659940197990/)
X-WR-RELCALID:9261aa2e8cb557a4eaf79ad7f99132f7
X-WR-TIMEZONE:America/New_York
BEGIN:VTIMEZONE
TZID:America/New_York
BEGIN:STANDARD
TZNAME:EST
DTSTART:20171105T020000
TZOFFSETFROM:-0400
TZOFFSETTO:-0500
RDATE:20181104T020000
END:STANDARD
BEGIN:DAYLIGHT
TZNAME:EDT
DTSTART:20180311T020000
TZOFFSETFROM:-0500
TZOFFSETTO:-0400
RDATE:20190310T020000
END:DAYLIGHT
END:VTIMEZONE
BEGIN:VEVENT
UID:017ca267-ec77-4020-8496-81fc6ce9b1de
DTSTAMP:20260422T025125Z
DESCRIPTION:Join us at 7pm for a one-man performance and discussion of This
  Evil Thing\, the shocking and inspiring story of the 'Richmond 16'\, a gr
 oup of men who said no to war. Michael Mears - ‘The Fringe-First Award win
 ning master of the one-man show’ – portrays a gallery of characters from c
 onscientious objectors to army generals\, from Prime Ministers to world-fa
 mous mathematicians. This highly original piece of storytelling uses verba
 tim testimonies\, a multi-layered sound landscape and vivid visual imagery
 . RSVP on Facebook if you would like to attend. (https://www.facebook.com/
 events/2000659940197990/)
DTSTART;TZID=America/New_York:20180421T190000
DTEND;TZID=America/New_York:20180421T210000
LOCATION:William Penn House (Washington\, DC)
SUMMARY:This Evil Thing
END:VEVENT
END:VCALENDAR
