BEGIN:VCALENDAR
VERSION:2.0
PRODID:-//www.bym-rsf.org//NONSGML kigkonsult.se iCalcreator 2.30.10//
CALSCALE:GREGORIAN
METHOD:PUBLISH
UID:7e24ac54-8e80-4f28-b5f0-56eef210b55b
X-WR-CALDESC:FCNL very much wishes to extend a hand to Friends who are fire
 d-up to engage and impact Congress in accordance with Quaker values and sp
 irit-led advocacy efforts. Friends who are looking for the change-making r
 esources\, structures and accompaniment of other Friends across the countr
 y will find all of that at the friends Committee on national Public Policy
  Institute taking place November 2-3\, 2017 in Washington\, DC. First-time
  attendees as well returning Friends can register at a reduced cost from $
 50-$125\, with most meals included. Travel can be financed through FCNL. D
 o not let funding get in your way of attending this transformative Quaker 
 gathering. For more information and to register\, see www.fcnl.org/annualm
 eeting.
X-WR-RELCALID:7c0b0a02f9bb847380dee10c22bacaf1
X-WR-TIMEZONE:America/New_York
BEGIN:VTIMEZONE
TZID:America/New_York
BEGIN:STANDARD
TZNAME:EST
DTSTART:20161106T020000
TZOFFSETFROM:-0400
TZOFFSETTO:-0500
RDATE:20171105T020000
RDATE:20181104T020000
END:STANDARD
BEGIN:DAYLIGHT
TZNAME:EDT
DTSTART:20170312T020000
TZOFFSETFROM:-0500
TZOFFSETTO:-0400
RDATE:20180311T020000
RDATE:20190310T020000
END:DAYLIGHT
END:VTIMEZONE
BEGIN:VEVENT
UID:2ad94d7e-c3cb-4e56-844f-3abd3807544e
DTSTAMP:20260421T220227Z
DESCRIPTION:FCNL very much wishes to extend a hand to Friends who are fired
 -up to engage and impact Congress in accordance with Quaker values and spi
 rit-led advocacy efforts. Friends who are looking for the change-making re
 sources\, structures and accompaniment of other Friends across the country
  will find all of that at the friends Committee on national Public Policy 
 Institute taking place November 2-3\, 2017 in Washington\, DC. First-time 
 attendees as well returning Friends can register at a reduced cost from $5
 0-$125\, with most meals included. Travel can be financed through FCNL. Do
  not let funding get in your way of attending this transformative Quaker g
 athering. For more information and to register\, see www.fcnl.org/annualme
 eting.
DTSTART;TZID=America/New_York:20171102T000000
DTEND;TZID=America/New_York:20171103T235900
LOCATION:Washington Court Hotel (Washington\, DC)
SUMMARY:FCNL Quaker Public Policy Institute and Lobby Day
END:VEVENT
END:VCALENDAR
