BEGIN:VCALENDAR
VERSION:2.0
PRODID:-//www.bym-rsf.org//NONSGML kigkonsult.se iCalcreator 2.30.10//
CALSCALE:GREGORIAN
METHOD:PUBLISH
UID:1282e218-a14c-4208-9514-c692acdd4f80
X-WR-CALDESC:Still looking for a terrific school for your child? Don’t have
  any plans for Spring Break? Bring your child (ages 7 and older) to enjoy 
 a climbing session with certified rock wall staff and students. While your
  child is scaling new heights\, you’ll be taken on a campus tour to learn 
 more about what makes Sandy Spring Friends School such an amazing place fo
 r personal and academic development. Check-in and refreshments from 8:15 t
 o 8:45am. Climbing and tours begin at 9a\;m. Spaces are limited so be sure
  to pre-register (info.ssfs.org/rsvp-april-information-session-0-0) by Apr
 il 7. Questions? Call 301-774-7455 or email admission@ssfs.org.
X-WR-RELCALID:90401dbe4320993de677f977858dff38
X-WR-TIMEZONE:America/New_York
BEGIN:VTIMEZONE
TZID:America/New_York
BEGIN:STANDARD
TZNAME:EST
DTSTART:20161106T020000
TZOFFSETFROM:-0400
TZOFFSETTO:-0500
RDATE:20171105T020000
END:STANDARD
BEGIN:DAYLIGHT
TZNAME:EDT
DTSTART:20170312T020000
TZOFFSETFROM:-0500
TZOFFSETTO:-0400
RDATE:20180311T020000
END:DAYLIGHT
END:VTIMEZONE
BEGIN:VEVENT
UID:518d6961-e7cb-4b2d-9095-9a05bb054610
DTSTAMP:20260421T105021Z
DESCRIPTION:Still looking for a terrific school for your child? Don’t have 
 any plans for Spring Break? Bring your child (ages 7 and older) to enjoy a
  climbing session with certified rock wall staff and students. While your 
 child is scaling new heights\, you’ll be taken on a campus tour to learn m
 ore about what makes Sandy Spring Friends School such an amazing place for
  personal and academic development. Check-in and refreshments from 8:15 to
  8:45am. Climbing and tours begin at 9a\;m. Spaces are limited so be sure 
 to pre-register (info.ssfs.org/rsvp-april-information-session-0-0) by Apri
 l 7. Questions? Call 301-774-7455 or email admission@ssfs.org.
DTSTART;TZID=America/New_York:20170412T080000
DTEND;TZID=America/New_York:20170412T110000
LOCATION:Sandy Spring Friends School (Sandy Spring\, MD)
SUMMARY:Discover Sandy Spring Friends School
END:VEVENT
END:VCALENDAR
