BEGIN:VCALENDAR
VERSION:2.0
PRODID:-//www.bym-rsf.org//NONSGML kigkonsult.se iCalcreator 2.30.10//
CALSCALE:GREGORIAN
METHOD:PUBLISH
UID:c92b0a04-3344-401b-8985-2519ff8a1a14
X-WR-CALDESC:The early-bird registration deadline for the 31st Friends Unit
 ed Meeting Triennial is coming soon! Make plans now to gather with Quakers
  from all over the world in Wichita\, Kansas—July 12- 16\, 2017. We will b
 e meeting on the campus of Friends University five days of worship\, fello
 wship\, learning and service. Register before March 31st and save $30! Ful
 l information and registration is at https://www.regonline.com/builder/sit
 e/Default.aspx?EventID=1877598.\n
X-WR-RELCALID:69b3134c7af2117b48ab45d898d639a2
X-WR-TIMEZONE:America/New_York
BEGIN:VTIMEZONE
TZID:America/New_York
BEGIN:STANDARD
TZNAME:EST
DTSTART:20161106T020000
TZOFFSETFROM:-0400
TZOFFSETTO:-0500
RDATE:20171105T020000
END:STANDARD
BEGIN:DAYLIGHT
TZNAME:EDT
DTSTART:20170312T020000
TZOFFSETFROM:-0500
TZOFFSETTO:-0400
RDATE:20180311T020000
END:DAYLIGHT
END:VTIMEZONE
BEGIN:VEVENT
UID:4fea52e7-ced1-46c2-ab09-5fb5ac735a7d
DTSTAMP:20260421T121737Z
DESCRIPTION:The early-bird registration deadline for the 31st Friends Unite
 d Meeting Triennial is coming soon! Make plans now to gather with Quakers 
 from all over the world in Wichita\, Kansas—July 12- 16\, 2017. We will be
  meeting on the campus of Friends University five days of worship\, fellow
 ship\, learning and service. Register before March 31st and save $30! Full
  information and registration is at https://www.regonline.com/builder/site
 /Default.aspx?EventID=1877598.\n
DTSTART;TZID=America/New_York:20170331T000000
DTEND;TZID=America/New_York:20170331T235900
LOCATION:
SUMMARY:Early Registration for FUM Triennial Ends
END:VEVENT
END:VCALENDAR
