BEGIN:VCALENDAR
VERSION:2.0
PRODID:-//www.bym-rsf.org//NONSGML kigkonsult.se iCalcreator 2.30.10//
CALSCALE:GREGORIAN
METHOD:PUBLISH
UID:b486c2e1-3c03-4b37-8d2c-ec5268991e1b
X-WR-CALDESC:The theme for this year’s gathering is Reconnecting Soul\, Sel
 f\, and Earth: Bearing Witness to our Global Moment. Joanna Macy will be t
 he plenary speaker. For full information\, including registration detail\,
  see fcrp.quaker.org.
X-WR-RELCALID:10940143459034b083f24e84b07576a2
X-WR-TIMEZONE:America/New_York
BEGIN:VTIMEZONE
TZID:America/New_York
BEGIN:STANDARD
TZNAME:EST
DTSTART:20151101T020000
TZOFFSETFROM:-0400
TZOFFSETTO:-0500
RDATE:20161106T020000
RDATE:20171105T020000
END:STANDARD
BEGIN:DAYLIGHT
TZNAME:EDT
DTSTART:20160313T020000
TZOFFSETFROM:-0500
TZOFFSETTO:-0400
RDATE:20170312T020000
END:DAYLIGHT
END:VTIMEZONE
BEGIN:VEVENT
UID:e47e8d4b-709c-451f-a73e-ad5ca54a8747
DTSTAMP:20260420T193525Z
DESCRIPTION:The theme for this year’s gathering is Reconnecting Soul\, Self
 \, and Earth: Bearing Witness to our Global Moment. Joanna Macy will be th
 e plenary speaker. For full information\, including registration detail\, 
 see fcrp.quaker.org.
DTSTART;TZID=America/New_York:20160527T000000
DTEND;TZID=America/New_York:20160530T235900
LOCATION:Lebanon Valley College (Annville\, PA)
SUMMARY:Friends Conference on Religion and Psychology
END:VEVENT
END:VCALENDAR
