BEGIN:VCALENDAR
VERSION:2.0
PRODID:-//www.bym-rsf.org//NONSGML kigkonsult.se iCalcreator 2.30.10//
CALSCALE:GREGORIAN
METHOD:PUBLISH
UID:ab74e44f-8f82-4692-810e-06d7227bd39d
X-WR-CALDESC:To see full information\, go to http://fwcc.world/peru/.
X-WR-RELCALID:a8cbfac97f64f85f65605f027a55747b
X-WR-TIMEZONE:America/New_York
BEGIN:VTIMEZONE
TZID:America/New_York
BEGIN:STANDARD
TZNAME:EST
DTSTART:20151101T020000
TZOFFSETFROM:-0400
TZOFFSETTO:-0500
RDATE:20161106T020000
END:STANDARD
BEGIN:DAYLIGHT
TZNAME:EDT
DTSTART:20150308T020000
TZOFFSETFROM:-0500
TZOFFSETTO:-0400
RDATE:20160313T020000
RDATE:20170312T020000
END:DAYLIGHT
END:VTIMEZONE
BEGIN:VEVENT
UID:d7546008-b0ee-46cf-96d2-32c2454344f5
DTSTAMP:20260420T161521Z
DESCRIPTION:To see full information\, go to http://fwcc.world/peru/.
DTSTART;TZID=America/New_York:20160119T000000
DTEND;TZID=America/New_York:20160127T235900
LOCATION:Pisac\, Peru
SUMMARY:FWCC World Plenary Meeting
END:VEVENT
END:VCALENDAR
