BEGIN:VCALENDAR
VERSION:2.0
PRODID:-//www.bym-rsf.org//NONSGML kigkonsult.se iCalcreator 2.30.10//
CALSCALE:GREGORIAN
METHOD:PUBLISH
UID:50f6bac9-7ed0-4a3c-a993-51c74e348d5a
X-WR-CALDESC:Linda Rabben (Adelphi Friends Meeting) will discuss her book\,
  Give Refuge to the Stranger: The Past\, Present and Future of Sanctuary f
 or the September William Penn House potluck. Linda will walk us through th
 e long histories of sanctuary as a religious institution and asylum as a s
 ecular legal institution. The monthly potluck is on a Sunday of each month
  at 6:30pm\, and the program starts at 7:30. This is an opportunity for fe
 llowship among Quakers\, attenders and fellow seekers. Bring a dish to sha
 re\; family members\, neighbors and friends are always welcome.
X-WR-RELCALID:d4c4318024d929a9a2a26dba5e09f625
X-WR-TIMEZONE:America/New_York
BEGIN:VTIMEZONE
TZID:America/New_York
BEGIN:STANDARD
TZNAME:EST
DTSTART:20141102T020000
TZOFFSETFROM:-0400
TZOFFSETTO:-0500
RDATE:20151101T020000
RDATE:20161106T020000
END:STANDARD
BEGIN:DAYLIGHT
TZNAME:EDT
DTSTART:20150308T020000
TZOFFSETFROM:-0500
TZOFFSETTO:-0400
RDATE:20160313T020000
RDATE:20170312T020000
END:DAYLIGHT
END:VTIMEZONE
BEGIN:VEVENT
UID:da64198d-4931-456c-b1cf-be0343b423a7
DTSTAMP:20260420T091154Z
DESCRIPTION:Linda Rabben (Adelphi Friends Meeting) will discuss her book\, 
 Give Refuge to the Stranger: The Past\, Present and Future of Sanctuary fo
 r the September William Penn House potluck. Linda will walk us through the
  long histories of sanctuary as a religious institution and asylum as a se
 cular legal institution. The monthly potluck is on a Sunday of each month 
 at 6:30pm\, and the program starts at 7:30. This is an opportunity for fel
 lowship among Quakers\, attenders and fellow seekers. Bring a dish to shar
 e\; family members\, neighbors and friends are always welcome.
DTSTART;TZID=America/New_York:20150913T180000
DTEND;TZID=America/New_York:20150913T213000
LOCATION:William Penn House (Washington\, DC)
SUMMARY:Give Refuge to the Stranger
END:VEVENT
END:VCALENDAR
