BEGIN:VCALENDAR
VERSION:2.0
PRODID:-//www.bym-rsf.org//NONSGML kigkonsult.se iCalcreator 2.30.10//
CALSCALE:GREGORIAN
METHOD:PUBLISH
UID:e7246c83-3c36-4b88-8247-bcaf7d861aa0
X-WR-CALDESC:The speaker this year is Alden Josy and the topic is 'The Arch
 etype of Aging in a Youth Obsessed Culture: Cultivating and Satisfying the
  Wise Spirit.' Please contact Walter Brown with any questions at 202-882-1
 764 or carolewalter@aol.com.
X-WR-RELCALID:ee885583dc5004335650b6d2faeb01a7
X-WR-TIMEZONE:America/New_York
BEGIN:VTIMEZONE
TZID:America/New_York
BEGIN:STANDARD
TZNAME:EST
DTSTART:20141102T020000
TZOFFSETFROM:-0400
TZOFFSETTO:-0500
RDATE:20151101T020000
RDATE:20161106T020000
END:STANDARD
BEGIN:DAYLIGHT
TZNAME:EDT
DTSTART:20150308T020000
TZOFFSETFROM:-0500
TZOFFSETTO:-0400
RDATE:20160313T020000
END:DAYLIGHT
END:VTIMEZONE
BEGIN:VEVENT
UID:f3ac5183-73be-4084-a3f4-48c23f72d72b
DTSTAMP:20260420T034250Z
DESCRIPTION:The speaker this year is Alden Josy and the topic is 'The Arche
 type of Aging in a Youth Obsessed Culture: Cultivating and Satisfying the 
 Wise Spirit.' Please contact Walter Brown with any questions at 202-882-17
 64 or carolewalter@aol.com.
DTSTART;TZID=America/New_York:20150522T000000
DTEND;TZID=America/New_York:20150524T235900
LOCATION:Lebanon Valley Collge (Annville\, PA)
SUMMARY:Friends Conference on Religion and Psychology
END:VEVENT
END:VCALENDAR
