BEGIN:VCALENDAR
VERSION:2.0
PRODID:-//www.bym-rsf.org//NONSGML kigkonsult.se iCalcreator 2.30.10//
CALSCALE:GREGORIAN
METHOD:PUBLISH
UID:66a8f05a-ae72-461f-85f9-a2f74cf13ce1
X-WR-CALDESC:Help tidy up the Niles Cabin and surrounding property while sh
 aring in fun\, food and fellowship. More specifics will be forthcoming\, b
 ut remember that if you come to work you get a free lunch! If you have any
  questions concerning any of our programs\, please email Sheila at snbach@
 earthlink.net or call 304.728.4820. We ask that you let us know if you are
  coming to any or all of our events and reservations for a meal are requir
 ed.
X-WR-RELCALID:43ae70c8eb09013a7bc55767658fbd27
X-WR-TIMEZONE:America/New_York
BEGIN:VTIMEZONE
TZID:America/New_York
BEGIN:STANDARD
TZNAME:EST
DTSTART:20141102T020000
TZOFFSETFROM:-0400
TZOFFSETTO:-0500
RDATE:20151101T020000
END:STANDARD
BEGIN:DAYLIGHT
TZNAME:EDT
DTSTART:20150308T020000
TZOFFSETFROM:-0500
TZOFFSETTO:-0400
RDATE:20160313T020000
END:DAYLIGHT
END:VTIMEZONE
BEGIN:VEVENT
UID:3c71a8ab-03e2-4eab-a6c6-83376a8c408d
DTSTAMP:20260420T000053Z
DESCRIPTION:Help tidy up the Niles Cabin and surrounding property while sha
 ring in fun\, food and fellowship. More specifics will be forthcoming\, bu
 t remember that if you come to work you get a free lunch! If you have any 
 questions concerning any of our programs\, please email Sheila at snbach@e
 arthlink.net or call 304.728.4820. We ask that you let us know if you are 
 coming to any or all of our events and reservations for a meal are require
 d.
DTSTART;TZID=America/New_York:20150425T100000
DTEND;TZID=America/New_York:20150425T160000
LOCATION:Friends Wilderness Center (Harpers Ferry\, WV)
SUMMARY:FWC Spring Work Day
END:VEVENT
END:VCALENDAR
