BEGIN:VCALENDAR
VERSION:2.0
PRODID:-//www.bym-rsf.org//NONSGML kigkonsult.se iCalcreator 2.30.10//
CALSCALE:GREGORIAN
METHOD:PUBLISH
UID:00cdb9fb-98b4-4791-ae0c-061b657bedee
X-WR-CALDESC:The Friends Committee on National Legislation invites Friends 
 to Sidwell Friends School in Washington\, DC for an inspiration dialogue w
 ith Robert Levering\, the Quaker behind Fortune Magazine’s 100 Best Compan
 ies to Work For in America. The program will begin at 4:00 pm and light re
 freshments will be served. For information\, contact Sandy Robson. (202-90
 3-2522 or sandy@fcnl.org)
X-WR-RELCALID:44551572aa3fa08bbb9ca211659e4680
X-WR-TIMEZONE:America/New_York
BEGIN:VTIMEZONE
TZID:America/New_York
BEGIN:STANDARD
TZNAME:EST
DTSTART:20111106T020000
TZOFFSETFROM:-0400
TZOFFSETTO:-0500
RDATE:20121104T020000
RDATE:20131103T020000
END:STANDARD
BEGIN:DAYLIGHT
TZNAME:EDT
DTSTART:20120311T020000
TZOFFSETFROM:-0500
TZOFFSETTO:-0400
RDATE:20130310T020000
RDATE:20140309T020000
END:DAYLIGHT
END:VTIMEZONE
BEGIN:VEVENT
UID:74121486-d986-460c-aa25-83a5181eaf98
DTSTAMP:20260419T131912Z
DESCRIPTION:The Friends Committee on National Legislation invites Friends t
 o Sidwell Friends School in Washington\, DC for an inspiration dialogue wi
 th Robert Levering\, the Quaker behind Fortune Magazine’s 100 Best Compani
 es to Work For in America. The program will begin at 4:00 pm and light ref
 reshments will be served. For information\, contact Sandy Robson. (202-903
 -2522 or sandy@fcnl.org)
DTSTART;TZID=America/New_York:20120930T160000
DTEND;TZID=America/New_York:20120930T190000
LOCATION:Sidwell Friends School
SUMMARY:Let Your Life Speak: A Conversation with Robert Levering
END:VEVENT
END:VCALENDAR
