BEGIN:VCALENDAR
VERSION:2.0
PRODID:-//www.bym-rsf.org//NONSGML kigkonsult.se iCalcreator 2.30.10//
CALSCALE:GREGORIAN
METHOD:PUBLISH
UID:85b1cdaa-a4b9-4002-b374-5826791e6417
X-WR-CALDESC:Caroline Pelton and Lisa Payne\, member of the Friends Wildern
 ess Center Board\, will lead this non-political program of silent worship 
 in which we will meet to hold both the nation and world in our hearts and 
 prayers as we prepare to go to the polls in November. RSVPs are requested.
  Contact Sheila Bach (304-728-4820 or snbach@earthlink.net). Suggested don
 ation is $10.00 per person. www.friendswilderness.org\n\nNote that this ha
 s been re-scheduled from September 22\, as previously announced!
X-WR-RELCALID:00fd23b7cdc1e45e043081d04d0cfc06
X-WR-TIMEZONE:America/New_York
BEGIN:VTIMEZONE
TZID:America/New_York
BEGIN:STANDARD
TZNAME:EST
DTSTART:20111106T020000
TZOFFSETFROM:-0400
TZOFFSETTO:-0500
RDATE:20121104T020000
RDATE:20131103T020000
END:STANDARD
BEGIN:DAYLIGHT
TZNAME:EDT
DTSTART:20120311T020000
TZOFFSETFROM:-0500
TZOFFSETTO:-0400
RDATE:20130310T020000
RDATE:20140309T020000
END:DAYLIGHT
END:VTIMEZONE
BEGIN:VEVENT
UID:ee465316-d4f5-49dd-9775-3486a8523cfd
DTSTAMP:20260419T132450Z
DESCRIPTION:Caroline Pelton and Lisa Payne\, member of the Friends Wilderne
 ss Center Board\, will lead this non-political program of silent worship i
 n which we will meet to hold both the nation and world in our hearts and p
 rayers as we prepare to go to the polls in November. RSVPs are requested. 
 Contact Sheila Bach (304-728-4820 or snbach@earthlink.net). Suggested dona
 tion is $10.00 per person. www.friendswilderness.org\n\nNote that this has
  been re-scheduled from September 22\, as previously announced!
DTSTART;TZID=America/New_York:20120929T100000
DTEND;TZID=America/New_York:20120929T170000
LOCATION:Friends Wilderness Center
SUMMARY:A Morning of Prayer for The Nation and The World
END:VEVENT
END:VCALENDAR
