BEGIN:VCALENDAR
VERSION:2.0
PRODID:-//www.bym-rsf.org//NONSGML kigkonsult.se iCalcreator 2.30.10//
CALSCALE:GREGORIAN
METHOD:PUBLISH
UID:636bf4b6-5416-4317-9bab-bd50014dd81d
X-WR-CALDESC:Greenbrier Valley Worship Group invites Friends to join Friend
 s from across West Virginia for a weekend of worship\, fellowship\, and go
 od food. The cost is $45.00 per person and includes three meals and overni
 ght accommodations in a cabin at the camp. Registration begins at 9:00 am 
 Saturday morning. Rick Wilson of AFSC will speak on Sunday at 10:00 am abo
 ut their activities in West Virginia. For information\, contact Cathy Aber
 nathy. (304-772-5856 or abergrump@aol.com)
X-WR-RELCALID:bc69ee033ec58c15aee0b9a42bc386e8
X-WR-TIMEZONE:America/New_York
BEGIN:VTIMEZONE
TZID:America/New_York
BEGIN:STANDARD
TZNAME:EST
DTSTART:20111106T020000
TZOFFSETFROM:-0400
TZOFFSETTO:-0500
RDATE:20121104T020000
RDATE:20131103T020000
END:STANDARD
BEGIN:DAYLIGHT
TZNAME:EDT
DTSTART:20120311T020000
TZOFFSETFROM:-0500
TZOFFSETTO:-0400
RDATE:20130310T020000
RDATE:20140309T020000
END:DAYLIGHT
END:VTIMEZONE
BEGIN:VEVENT
UID:438417d9-0fb7-4cff-b279-9ff4f1449aac
DTSTAMP:20260419T132333Z
DESCRIPTION:Greenbrier Valley Worship Group invites Friends to join Friends
  from across West Virginia for a weekend of worship\, fellowship\, and goo
 d food. The cost is $45.00 per person and includes three meals and overnig
 ht accommodations in a cabin at the camp. Registration begins at 9:00 am S
 aturday morning. Rick Wilson of AFSC will speak on Sunday at 10:00 am abou
 t their activities in West Virginia. For information\, contact Cathy Abern
 athy. (304-772-5856 or abergrump@aol.com)
DTSTART;TZID=America/New_York:20120929T090000
DTEND;TZID=America/New_York:20120929T235900
LOCATION:Camp Happy Valley
SUMMARY:West Virginia Friends Gathering
END:VEVENT
END:VCALENDAR
