BEGIN:VCALENDAR
VERSION:2.0
PRODID:-//www.bym-rsf.org//NONSGML kigkonsult.se iCalcreator 2.30.10//
CALSCALE:GREGORIAN
METHOD:PUBLISH
UID:380b1129-0964-4ca4-8291-909112f30257
X-WR-CALDESC:Kenya Casanova Sale of Cuba Yearly Meeting will be speaking at
  3:00 pm on how the Living Water of Quaker Ministry flows today among Frie
 nds in Cuba. For more information or to RSVP\, contact John Salzberg. (301
 -774-6815 or john.salzberg@verizon.net)
X-WR-RELCALID:ace1be657d8554e2f505ad25758565c8
X-WR-TIMEZONE:America/New_York
BEGIN:VTIMEZONE
TZID:America/New_York
BEGIN:STANDARD
TZNAME:EST
DTSTART:20111106T020000
TZOFFSETFROM:-0400
TZOFFSETTO:-0500
RDATE:20121104T020000
RDATE:20131103T020000
END:STANDARD
BEGIN:DAYLIGHT
TZNAME:EDT
DTSTART:20120311T020000
TZOFFSETFROM:-0500
TZOFFSETTO:-0400
RDATE:20130310T020000
RDATE:20140309T020000
END:DAYLIGHT
END:VTIMEZONE
BEGIN:VEVENT
UID:eeacf931-7c14-4602-9c66-85be5a39f140
DTSTAMP:20260419T132155Z
DESCRIPTION:Kenya Casanova Sale of Cuba Yearly Meeting will be speaking at 
 3:00 pm on how the Living Water of Quaker Ministry flows today among Frien
 ds in Cuba. For more information or to RSVP\, contact John Salzberg. (301-
 774-6815 or john.salzberg@verizon.net)
DTSTART;TZID=America/New_York:20120917T150000
DTEND;TZID=America/New_York:20120917T163000
LOCATION:Friends House
SUMMARY:Let the Living Water Flow!
END:VEVENT
END:VCALENDAR
