BEGIN:VCALENDAR
VERSION:2.0
PRODID:-//www.bym-rsf.org//NONSGML kigkonsult.se iCalcreator 2.30.10//
CALSCALE:GREGORIAN
METHOD:PUBLISH
UID:058d8b2b-1766-4e5b-bd0f-a64e9b67484e
X-WR-CALDESC:The Baltimore office of the American Friends Service Committee
  is hosting a conference call at 7:00 pm to give all interested Friends a 
 chance to learn about the work they are doing. The call will be hosted by 
 Dominque Stevenson\, director of the A Friend of a Friend Program\, and Mi
 a Jones\, the director of the Youth Empowerment program. To participate\, 
 simply call the toll free number (866-740-1260) and enter the access code 
 2419982.
X-WR-RELCALID:cab4976206f3a14b08dd87b683759eeb
X-WR-TIMEZONE:America/New_York
BEGIN:VTIMEZONE
TZID:America/New_York
BEGIN:STANDARD
TZNAME:EST
DTSTART:20111106T020000
TZOFFSETFROM:-0400
TZOFFSETTO:-0500
RDATE:20121104T020000
RDATE:20131103T020000
END:STANDARD
BEGIN:DAYLIGHT
TZNAME:EDT
DTSTART:20120311T020000
TZOFFSETFROM:-0500
TZOFFSETTO:-0400
RDATE:20130310T020000
RDATE:20140309T020000
END:DAYLIGHT
END:VTIMEZONE
BEGIN:VEVENT
UID:934f7a8c-306e-4e3d-9f3b-46ad30c7a2eb
DTSTAMP:20260419T131748Z
DESCRIPTION:The Baltimore office of the American Friends Service Committee 
 is hosting a conference call at 7:00 pm to give all interested Friends a c
 hance to learn about the work they are doing. The call will be hosted by D
 ominque Stevenson\, director of the A Friend of a Friend Program\, and Mia
  Jones\, the director of the Youth Empowerment program. To participate\, s
 imply call the toll free number (866-740-1260) and enter the access code 2
 419982.
DTSTART;TZID=America/New_York:20120911T190000
DTEND;TZID=America/New_York:20120911T220000
LOCATION:Tele-conference
SUMMARY:Learn about AFSC's work in Baltimore
END:VEVENT
END:VCALENDAR
