BEGIN:VCALENDAR
VERSION:2.0
PRODID:-//www.bym-rsf.org//NONSGML kigkonsult.se iCalcreator 2.30.10//
CALSCALE:GREGORIAN
METHOD:PUBLISH
UID:1fcf5a6d-a11d-4bf6-a120-fc31d13fb285
X-WR-CALDESC:Qi Gong is the 4\,000 year-old Chinese practice of aligning br
 eath\, movement\, and awareness for exercise\, healing\, and meditation. C
 ome and learn the basics of this ancient tradition and feel what energies 
 it can free up in your mind and body. RSVPs are required. Contact Sheila B
 ach (304-728-4820 or snbach@earthlink.net). Suggested donation is $10.00 p
 er person. www.friendswilderness.org
X-WR-RELCALID:aad996db21e73c7dfb7d44c5fb7cde8b
X-WR-TIMEZONE:America/New_York
BEGIN:VTIMEZONE
TZID:America/New_York
BEGIN:STANDARD
TZNAME:EST
DTSTART:20111106T020000
TZOFFSETFROM:-0400
TZOFFSETTO:-0500
RDATE:20121104T020000
RDATE:20131103T020000
END:STANDARD
BEGIN:DAYLIGHT
TZNAME:EDT
DTSTART:20120311T020000
TZOFFSETFROM:-0500
TZOFFSETTO:-0400
RDATE:20130310T020000
RDATE:20140309T020000
END:DAYLIGHT
END:VTIMEZONE
BEGIN:VEVENT
UID:48894149-a4f2-487c-a712-507663776576
DTSTAMP:20260419T131959Z
DESCRIPTION:Qi Gong is the 4\,000 year-old Chinese practice of aligning bre
 ath\, movement\, and awareness for exercise\, healing\, and meditation. Co
 me and learn the basics of this ancient tradition and feel what energies i
 t can free up in your mind and body. RSVPs are required. Contact Sheila Ba
 ch (304-728-4820 or snbach@earthlink.net). Suggested donation is $10.00 pe
 r person. www.friendswilderness.org
DTSTART;TZID=America/New_York:20120908T100000
DTEND;TZID=America/New_York:20120908T170000
LOCATION:Friends Wilderness Center
SUMMARY:An Introduction to Qi Gong
END:VEVENT
END:VCALENDAR
