BEGIN:VCALENDAR
VERSION:2.0
PRODID:-//www.bym-rsf.org//NONSGML kigkonsult.se iCalcreator 2.30.10//
CALSCALE:GREGORIAN
METHOD:PUBLISH
UID:39726317-8f91-4897-8bd2-3a4b0f7a8573
X-WR-CALDESC:Part hike\, part walking meditation\, this hike will be led by
  Michael Moore\, FWC board member. Please contact Sheila Bach (304-728-482
 0 or snbach@earthlink.net) to let her know you will be coming. Suggested d
 onation is $10.00 per person. www.friendswilderness.org
X-WR-RELCALID:f67a3b6d764f7b184e970b3c97f818ac
X-WR-TIMEZONE:America/New_York
BEGIN:VTIMEZONE
TZID:America/New_York
BEGIN:STANDARD
TZNAME:EST
DTSTART:20111106T020000
TZOFFSETFROM:-0400
TZOFFSETTO:-0500
RDATE:20121104T020000
RDATE:20131103T020000
END:STANDARD
BEGIN:DAYLIGHT
TZNAME:EDT
DTSTART:20120311T020000
TZOFFSETFROM:-0500
TZOFFSETTO:-0400
RDATE:20130310T020000
END:DAYLIGHT
END:VTIMEZONE
BEGIN:VEVENT
UID:96f0c6d3-f01d-42d7-b5c3-452c426cf810
DTSTAMP:20260419T131625Z
DESCRIPTION:Part hike\, part walking meditation\, this hike will be led by 
 Michael Moore\, FWC board member. Please contact Sheila Bach (304-728-4820
  or snbach@earthlink.net) to let her know you will be coming. Suggested do
 nation is $10.00 per person. www.friendswilderness.org
DTSTART;TZID=America/New_York:20120901T110000
DTEND;TZID=America/New_York:20120901T170000
LOCATION:Friends Wilderness Center
SUMMARY:Pendle Hike
END:VEVENT
END:VCALENDAR
