BEGIN:VCALENDAR
VERSION:2.0
PRODID:-//www.bym-rsf.org//NONSGML kigkonsult.se iCalcreator 2.30.10//
CALSCALE:GREGORIAN
METHOD:PUBLISH
UID:b9db8b40-5ecc-4252-9243-c1c2ce135def
X-WR-CALDESC:This fourth annual gathering of Christ-centered Friends from t
 he Northeast at Prindle Pond reaffirms our original epistle from our 2009 
 gathering: “to Friends everywhere\, and to all who seek love\, joy\, hope\
 , and meaning in life” and “Knowing that language and doctrinal notions ha
 ve caused unnecessary divisions among people of faith\, we have no desire 
 to add to these\, but simply to stand with Jesus Christ at an open door\, 
 where He offers His light and love.” Our second gathering\, 2010\, called 
 us to “be Living Epistles of Christ” as written in 2 Corinthians 3:2-3.  O
 ur third gathering’s statement included: “We joyfully invite each other to
  continue this experience of our blessed community in Christ\, learning an
 d growing together in our faith and practice.”\n\nSee the attached flyer f
 or more information.
X-WR-RELCALID:cbc5b501f0ddd1c594459ae1379ba32a
X-WR-TIMEZONE:America/New_York
BEGIN:VTIMEZONE
TZID:America/New_York
BEGIN:STANDARD
TZNAME:EST
DTSTART:20111106T020000
TZOFFSETFROM:-0400
TZOFFSETTO:-0500
RDATE:20121104T020000
RDATE:20131103T020000
END:STANDARD
BEGIN:DAYLIGHT
TZNAME:EDT
DTSTART:20120311T020000
TZOFFSETFROM:-0500
TZOFFSETTO:-0400
RDATE:20130310T020000
END:DAYLIGHT
END:VTIMEZONE
BEGIN:VEVENT
UID:2c827eaf-1f95-4a89-b39a-70719b43b931
DTSTAMP:20260419T145244Z
DESCRIPTION:This fourth annual gathering of Christ-centered Friends from th
 e Northeast at Prindle Pond reaffirms our original epistle from our 2009 g
 athering: “to Friends everywhere\, and to all who seek love\, joy\, hope\,
  and meaning in life” and “Knowing that language and doctrinal notions hav
 e caused unnecessary divisions among people of faith\, we have no desire t
 o add to these\, but simply to stand with Jesus Christ at an open door\, w
 here He offers His light and love.” Our second gathering\, 2010\, called u
 s to “be Living Epistles of Christ” as written in 2 Corinthians 3:2-3.  Ou
 r third gathering’s statement included: “We joyfully invite each other to 
 continue this experience of our blessed community in Christ\, learning and
  growing together in our faith and practice.”\n\nSee the attached flyer fo
 r more information.
DTSTART;TZID=America/New_York:20120819T000000
DTEND;TZID=America/New_York:20120819T235900
LOCATION:Prindle Pond Conference Center
SUMMARY:4th Annual Northeastern Christ-Centered Friends Gathering
END:VEVENT
END:VCALENDAR
