BEGIN:VCALENDAR
VERSION:2.0
PRODID:-//www.bym-rsf.org//NONSGML kigkonsult.se iCalcreator 2.30.10//
CALSCALE:GREGORIAN
METHOD:PUBLISH
UID:11c8dcdb-d29c-497e-b6d4-a05652484a22
X-WR-CALDESC:The 2012 Gathering of Friends will focus on the theme of 'All 
 God's Children Got A Place in the Choir.' There are week-long workshops\, 
 programms for children and teens\, and inspirational evening programs. Sch
 olarship assistance is available. For full details\, including registratio
 n information\, see the FGC website.
X-WR-RELCALID:02f39eb7ca302f29464691a78dac7c87
X-WR-TIMEZONE:America/New_York
BEGIN:VTIMEZONE
TZID:America/New_York
BEGIN:STANDARD
TZNAME:EST
DTSTART:20111106T020000
TZOFFSETFROM:-0400
TZOFFSETTO:-0500
RDATE:20121104T020000
RDATE:20131103T020000
END:STANDARD
BEGIN:DAYLIGHT
TZNAME:EDT
DTSTART:20120311T020000
TZOFFSETFROM:-0500
TZOFFSETTO:-0400
RDATE:20130310T020000
END:DAYLIGHT
END:VTIMEZONE
BEGIN:VEVENT
UID:3943955a-c961-4296-9672-84c6850cc9cc
DTSTAMP:20260419T163603Z
DESCRIPTION:The 2012 Gathering of Friends will focus on the theme of 'All G
 od's Children Got A Place in the Choir.' There are week-long workshops\, p
 rogramms for children and teens\, and inspirational evening programs. Scho
 larship assistance is available. For full details\, including registration
  information\, see the FGC website.
DTSTART;TZID=America/New_York:20120705T000000
DTEND;TZID=America/New_York:20120705T235900
LOCATION:University of Rhode Island
SUMMARY:Friends General Conference Gathering of Friends
END:VEVENT
END:VCALENDAR
