BEGIN:VCALENDAR
VERSION:2.0
PRODID:-//www.bym-rsf.org//NONSGML kigkonsult.se iCalcreator 2.30.10//
CALSCALE:GREGORIAN
METHOD:PUBLISH
UID:1b1d195d-85a4-42a8-b33c-0d51a5e0fbbc
X-WR-CALDESC:The 2012 Gathering of Friends will focus on the theme of 'All 
 God's Children Got A Place in the Choir.' There are week-long workshops\, 
 programms for children and teens\, and inspirational evening programs. Sch
 olarship assistance is available. For full details\, including registratio
 n information\, see the FGC website.
X-WR-RELCALID:8c7edeb4d09137cb54e0236c5322d4ea
X-WR-TIMEZONE:America/New_York
BEGIN:VTIMEZONE
TZID:America/New_York
BEGIN:STANDARD
TZNAME:EST
DTSTART:20111106T020000
TZOFFSETFROM:-0400
TZOFFSETTO:-0500
RDATE:20121104T020000
RDATE:20131103T020000
END:STANDARD
BEGIN:DAYLIGHT
TZNAME:EDT
DTSTART:20120311T020000
TZOFFSETFROM:-0500
TZOFFSETTO:-0400
RDATE:20130310T020000
END:DAYLIGHT
END:VTIMEZONE
BEGIN:VEVENT
UID:240a4f5e-f145-4038-874b-005603033318
DTSTAMP:20260419T162945Z
DESCRIPTION:The 2012 Gathering of Friends will focus on the theme of 'All G
 od's Children Got A Place in the Choir.' There are week-long workshops\, p
 rogramms for children and teens\, and inspirational evening programs. Scho
 larship assistance is available. For full details\, including registration
  information\, see the FGC website.
DTSTART;TZID=America/New_York:20120702T000000
DTEND;TZID=America/New_York:20120702T235900
LOCATION:University of Rhode Island
SUMMARY:Friends General Conference Gathering of Friends
END:VEVENT
END:VCALENDAR
