BEGIN:VCALENDAR
VERSION:2.0
PRODID:-//www.bym-rsf.org//NONSGML kigkonsult.se iCalcreator 2.30.10//
CALSCALE:GREGORIAN
METHOD:PUBLISH
UID:7887d9b9-0c76-4e9e-ab32-36cdfdb04da7
X-WR-CALDESC:The annual meeting of the Friends Conference on Religion and P
 sychology will be held at Lebanon Valley College in Annville\, Pennsylvani
 a. The Plenary Speaker will be Barbara Goodrich-Dunn on the topic of <em>T
 he Inseparable Body and Soul: Complexes\, Dreams and Shadow</em>. Small in
 terest groups will be available for more personal and deeper exploration o
 f the topic. For more information and registration details\, see their web
 site at fcrp.quaker.org.
X-WR-RELCALID:3b0d5fb8eef1f4fb3da85ed5c98773cb
X-WR-TIMEZONE:America/New_York
BEGIN:VTIMEZONE
TZID:America/New_York
BEGIN:STANDARD
TZNAME:EST
DTSTART:20111106T020000
TZOFFSETFROM:-0400
TZOFFSETTO:-0500
RDATE:20121104T020000
RDATE:20131103T020000
END:STANDARD
BEGIN:DAYLIGHT
TZNAME:EDT
DTSTART:20120311T020000
TZOFFSETFROM:-0500
TZOFFSETTO:-0400
RDATE:20130310T020000
END:DAYLIGHT
END:VTIMEZONE
BEGIN:VEVENT
UID:91f425e6-1795-4ed3-9b44-a695687a5438
DTSTAMP:20260421T101617Z
DESCRIPTION:The annual meeting of the Friends Conference on Religion and Ps
 ychology will be held at Lebanon Valley College in Annville\, Pennsylvania
 . The Plenary Speaker will be Barbara Goodrich-Dunn on the topic of <em>Th
 e Inseparable Body and Soul: Complexes\, Dreams and Shadow</em>. Small int
 erest groups will be available for more personal and deeper exploration of
  the topic. For more information and registration details\, see their webs
 ite at fcrp.quaker.org.
DTSTART;TZID=America/New_York:20120525T120000
DTEND;TZID=America/New_York:20120525T235900
LOCATION:Lebanon Valley College\, Annville\, Pennsylvania
SUMMARY:Friends Conference on Religion and Psychology Meeting
END:VEVENT
END:VCALENDAR
