BEGIN:VCALENDAR
VERSION:2.0
PRODID:-//www.bym-rsf.org//NONSGML kigkonsult.se iCalcreator 2.30.10//
CALSCALE:GREGORIAN
METHOD:PUBLISH
UID:cd75f49a-e793-413a-af61-8708dabcea3d
X-WR-CALDESC:Friends World Conference for Consultation is holding the large
 st worldwide conference of Friends since 1967. The theme is Being Salt and
  Light – Friends living the Kingdom of God in a broken world. It is still 
 possible to attend. For full information on the conference\, including app
 lications for one of the 300 open places\, see the conference website.
X-WR-RELCALID:ff91acdd076e8d29567d97184b1b6320
X-WR-TIMEZONE:America/New_York
BEGIN:VTIMEZONE
TZID:America/New_York
BEGIN:STANDARD
TZNAME:EST
DTSTART:20111106T020000
TZOFFSETFROM:-0400
TZOFFSETTO:-0500
RDATE:20121104T020000
END:STANDARD
BEGIN:DAYLIGHT
TZNAME:EDT
DTSTART:20120311T020000
TZOFFSETFROM:-0500
TZOFFSETTO:-0400
RDATE:20130310T020000
END:DAYLIGHT
END:VTIMEZONE
BEGIN:VEVENT
UID:91f8dce5-6fb8-4c17-8f16-62cf0636915f
DTSTAMP:20260421T084504Z
DESCRIPTION:Friends World Conference for Consultation is holding the larges
 t worldwide conference of Friends since 1967. The theme is Being Salt and 
 Light – Friends living the Kingdom of God in a broken world. It is still p
 ossible to attend. For full information on the conference\, including appl
 ications for one of the 300 open places\, see the conference website.
DTSTART;TZID=America/New_York:20120424T000000
DTEND;TZID=America/New_York:20120424T235900
LOCATION:Kenya
SUMMARY:World Conference of Friends 2012
END:VEVENT
END:VCALENDAR
