BEGIN:VCALENDAR
VERSION:2.0
PRODID:-//www.bym-rsf.org//NONSGML kigkonsult.se iCalcreator 2.30.10//
CALSCALE:GREGORIAN
METHOD:PUBLISH
UID:1612fc3d-76a0-497f-9748-cbcef9f26107
X-WR-CALDESC:Join the Friends Conference on Religion and Psychology at the 
 Claggett Center in Buckeystown\, MD\, near Frederick. The theme will be Th
 e Story of the Friends Conference on Religion and Psychology. For informat
 ion see their website at fcrp.quaker.org.
X-WR-RELCALID:f56a11585bd9fc7b1595142bd36c31c8
X-WR-TIMEZONE:America/New_York
BEGIN:VTIMEZONE
TZID:America/New_York
BEGIN:STANDARD
TZNAME:EST
DTSTART:20111106T020000
TZOFFSETFROM:-0400
TZOFFSETTO:-0500
RDATE:20121104T020000
END:STANDARD
BEGIN:DAYLIGHT
TZNAME:EDT
DTSTART:20110313T020000
TZOFFSETFROM:-0500
TZOFFSETTO:-0400
RDATE:20120311T020000
RDATE:20130310T020000
END:DAYLIGHT
END:VTIMEZONE
BEGIN:VEVENT
UID:41b45540-18e9-42c4-a46d-d6d95c9c0e63
DTSTAMP:20260419T132520Z
DESCRIPTION:Join the Friends Conference on Religion and Psychology at the C
 laggett Center in Buckeystown\, MD\, near Frederick. The theme will be The
  Story of the Friends Conference on Religion and Psychology. For informati
 on see their website at fcrp.quaker.org.
DTSTART;TZID=America/New_York:20120225T000000
DTEND;TZID=America/New_York:20120225T235900
LOCATION:Claggett Center\, Buckeystown\, Maryland
SUMMARY:35th Annual Washington Friends Conference on Religion and Psycholog
 y
END:VEVENT
END:VCALENDAR
