BEGIN:VCALENDAR
VERSION:2.0
PRODID:-//www.bym-rsf.org//NONSGML kigkonsult.se iCalcreator 2.30.10//
CALSCALE:GREGORIAN
METHOD:PUBLISH
UID:a33a7c6e-7fd8-4a6b-bc19-767c10b37e75
X-WR-CALDESC:Join the Friends Conference on Religion and Psychology at the 
 Claggett Center in Buckeystown\, MD\, near Frederick. The theme will be Th
 e Story of the Friends Conference on Religion and Psychology. For informat
 ion see their website at fcrp.quaker.org.
X-WR-RELCALID:7dd17ec2e83a9ce5d01c1eb766096d82
X-WR-TIMEZONE:America/New_York
BEGIN:VTIMEZONE
TZID:America/New_York
BEGIN:STANDARD
TZNAME:EST
DTSTART:20111106T020000
TZOFFSETFROM:-0400
TZOFFSETTO:-0500
RDATE:20121104T020000
END:STANDARD
BEGIN:DAYLIGHT
TZNAME:EDT
DTSTART:20110313T020000
TZOFFSETFROM:-0500
TZOFFSETTO:-0400
RDATE:20120311T020000
RDATE:20130310T020000
END:DAYLIGHT
END:VTIMEZONE
BEGIN:VEVENT
UID:7b20a444-86ae-4bfb-8dd5-978f25fa029f
DTSTAMP:20260419T132520Z
DESCRIPTION:Join the Friends Conference on Religion and Psychology at the C
 laggett Center in Buckeystown\, MD\, near Frederick. The theme will be The
  Story of the Friends Conference on Religion and Psychology. For informati
 on see their website at fcrp.quaker.org.
DTSTART;TZID=America/New_York:20120224T170000
DTEND;TZID=America/New_York:20120224T235900
LOCATION:Claggett Center\, Buckeystown\, Maryland
SUMMARY:35th Annual Washington Friends Conference on Religion and Psycholog
 y
END:VEVENT
END:VCALENDAR
