BEGIN:VCALENDAR
VERSION:2.0
PRODID:-//www.bym-rsf.org//NONSGML kigkonsult.se iCalcreator 2.30.10//
CALSCALE:GREGORIAN
METHOD:PUBLISH
UID:587f1df7-ffbd-4183-ae45-156ccc11d799
X-WR-CALDESC:Virginia Schurman (Gunpowder Friends Meeting) will portray Qua
 ker minister and elder Martha Ellicott Tyson (1795 - 1873). Tyson was an a
 dvocate for African-Americans and Native Americans\; a friend and biograph
 er of Benjamin Banneker\; and a co-founder of Swarthmore College.
X-WR-RELCALID:9ad4b385aa68fd217e04c9557471863b
X-WR-TIMEZONE:America/New_York
BEGIN:VTIMEZONE
TZID:America/New_York
BEGIN:STANDARD
TZNAME:EST
DTSTART:20111106T020000
TZOFFSETFROM:-0400
TZOFFSETTO:-0500
RDATE:20121104T020000
END:STANDARD
BEGIN:DAYLIGHT
TZNAME:EDT
DTSTART:20110313T020000
TZOFFSETFROM:-0500
TZOFFSETTO:-0400
RDATE:20120311T020000
RDATE:20130310T020000
END:DAYLIGHT
END:VTIMEZONE
BEGIN:VEVENT
UID:19731c4f-beac-48c7-a9ad-2065290c1eb4
DTSTAMP:20260419T181752Z
DESCRIPTION:Virginia Schurman (Gunpowder Friends Meeting) will portray Quak
 er minister and elder Martha Ellicott Tyson (1795 - 1873). Tyson was an ad
 vocate for African-Americans and Native Americans\; a friend and biographe
 r of Benjamin Banneker\; and a co-founder of Swarthmore College.
DTSTART;TZID=America/New_York:20111119T190000
DTEND;TZID=America/New_York:20111119T220000
LOCATION:Broadmead Auditorium
SUMMARY:Meet Martha Ellicott Tyson
END:VEVENT
END:VCALENDAR
