BEGIN:VCALENDAR
VERSION:2.0
PRODID:-//www.bym-rsf.org//NONSGML kigkonsult.se iCalcreator 2.30.10//
CALSCALE:GREGORIAN
METHOD:PUBLISH
UID:aa82c608-e39e-47a3-b4d7-4ff7f0914a3e
X-WR-CALDESC:Mandawala Pannawansa\, a Sri Lankan Buddhist Monk\, will lead 
 meditations at Friends Wilderness Center’s Niles Cabin\, starting at 10:00
  am. There will be a break for lunch at 12:30. You may bring a bag lunch\,
  or order one for $7.00.  Reservations for a lunch are required.
X-WR-RELCALID:85fb7e40bad5c15804671a5b57496b18
X-WR-TIMEZONE:America/New_York
BEGIN:VTIMEZONE
TZID:America/New_York
BEGIN:STANDARD
TZNAME:EST
DTSTART:20101107T020000
TZOFFSETFROM:-0400
TZOFFSETTO:-0500
RDATE:20111106T020000
RDATE:20121104T020000
END:STANDARD
BEGIN:DAYLIGHT
TZNAME:EDT
DTSTART:20110313T020000
TZOFFSETFROM:-0500
TZOFFSETTO:-0400
RDATE:20120311T020000
RDATE:20130310T020000
END:DAYLIGHT
END:VTIMEZONE
BEGIN:VEVENT
UID:b19b7cc7-a675-41fd-a431-2ec8ba64ff35
DTSTAMP:20260419T220624Z
DESCRIPTION:Mandawala Pannawansa\, a Sri Lankan Buddhist Monk\, will lead m
 editations at Friends Wilderness Center’s Niles Cabin\, starting at 10:00 
 am. There will be a break for lunch at 12:30. You may bring a bag lunch\, 
 or order one for $7.00.  Reservations for a lunch are required.
DTSTART;TZID=America/New_York:20110910T100000
DTEND;TZID=America/New_York:20110910T170000
LOCATION:Friends Wilderness Center
SUMMARY:Meditate with a Buddhist Monk
END:VEVENT
END:VCALENDAR
