BEGIN:VCALENDAR
VERSION:2.0
PRODID:-//www.bym-rsf.org//NONSGML kigkonsult.se iCalcreator 2.30.10//
CALSCALE:GREGORIAN
METHOD:PUBLISH
UID:dc22dd24-4958-4f41-9c3c-669c4f795bf9
X-WR-CALDESC:Powell House retreat center in Old Chatham\, NY is hosting a g
 athering of Christ-centered Friends during Labor Day weekend. The program 
 is intended to help Friends in the northeast have fellowship and join toge
 ther in waiting worship.
X-WR-RELCALID:64baed2c80f77316d9dc179ffa8f5e4d
X-WR-TIMEZONE:America/New_York
BEGIN:VTIMEZONE
TZID:America/New_York
BEGIN:STANDARD
TZNAME:EST
DTSTART:20101107T020000
TZOFFSETFROM:-0400
TZOFFSETTO:-0500
RDATE:20111106T020000
RDATE:20121104T020000
END:STANDARD
BEGIN:DAYLIGHT
TZNAME:EDT
DTSTART:20110313T020000
TZOFFSETFROM:-0500
TZOFFSETTO:-0400
RDATE:20120311T020000
END:DAYLIGHT
END:VTIMEZONE
BEGIN:VEVENT
UID:9c87fa98-100b-4b1b-bad8-3c52db235cca
DTSTAMP:20260419T220211Z
DESCRIPTION:Powell House retreat center in Old Chatham\, NY is hosting a ga
 thering of Christ-centered Friends during Labor Day weekend. The program i
 s intended to help Friends in the northeast have fellowship and join toget
 her in waiting worship.
DTSTART;TZID=America/New_York:20110902T000000
DTEND;TZID=America/New_York:20110902T235900
LOCATION:Powell House
SUMMARY:A Closer Walk with Thee
END:VEVENT
END:VCALENDAR
